BEGIN:VCALENDAR
VERSION:2.0
PRODID:-//Amana Ministries, Telugu Church in Bangalore - ECPv5.16.2.1//NONSGML v1.0//EN
CALSCALE:GREGORIAN
METHOD:PUBLISH
X-WR-CALNAME:Amana Ministries, Telugu Church in Bangalore
X-ORIGINAL-URL:http://amanaministries.com
X-WR-CALDESC:Events for Amana Ministries, Telugu Church in Bangalore
REFRESH-INTERVAL;VALUE=DURATION:PT1H
X-Robots-Tag:noindex
X-PUBLISHED-TTL:PT1H
BEGIN:VTIMEZONE
TZID:UTC
BEGIN:STANDARD
TZOFFSETFROM:+0000
TZOFFSETTO:+0000
TZNAME:UTC
DTSTART:20230101T000000
END:STANDARD
TZID:Indian/Christmas
BEGIN:STANDARD
TZOFFSETFROM:+0700
TZOFFSETTO:+0700
TZNAME:+07
DTSTART:20230101T000000
END:STANDARD
END:VTIMEZONE
BEGIN:VEVENT
DTSTART;TZID=UTC:20230303T200000
DTEND;TZID=UTC:20230303T200000
DTSTAMP:20260423T041933
CREATED:20221226T113632Z
LAST-MODIFIED:20230210T113627Z
UID:4656-1677873600-1677873600@amanaministries.com
SUMMARY:Fasting Prayer
DESCRIPTION:Praying for all needs
URL:http://amanaministries.com/event/fasting-prayer-3/
LOCATION:Amanaministries Church\, Amana Church\, Amana Ministries(R)\, Bangalore\, 560066\, India
ATTACH;FMTTYPE=image/jpeg:http://amanaministries.com/wp-content/uploads/2021/12/3.jpg
END:VEVENT
BEGIN:VEVENT
DTSTART;TZID=UTC:20230228T200000
DTEND;TZID=UTC:20230228T200000
DTSTAMP:20260423T041933
CREATED:20221226T113223Z
LAST-MODIFIED:20230210T114432Z
UID:4648-1677614400-1677614400@amanaministries.com
SUMMARY:Listen\, Discuss and understand the Word of God
DESCRIPTION:In-depth study of Scriptures
URL:http://amanaministries.com/event/bible-study-3/
LOCATION:Amanaministries Church\, Amana Church\, Amana Ministries(R)\, Bangalore\, 560066\, India
ATTACH;FMTTYPE=image/jpeg:http://amanaministries.com/wp-content/uploads/2021/12/4.jpg
END:VEVENT
BEGIN:VEVENT
DTSTART;TZID=Indian/Christmas:20230226T170000
DTEND;TZID=Indian/Christmas:20230226T170000
DTSTAMP:20260423T041933
CREATED:20221226T112756Z
LAST-MODIFIED:20230210T113040Z
UID:4638-1677430800-1677430800@amanaministries.com
SUMMARY:Sunday school online
DESCRIPTION:All kids are welcome
URL:http://amanaministries.com/event/sunday-school-online-3/
LOCATION:Amanaministries Church\, Amana Church\, Amana Ministries(R)\, Bangalore\, 560066\, India
CATEGORIES:Holy
ATTACH;FMTTYPE=image/jpeg:http://amanaministries.com/wp-content/uploads/2021/05/2-594x333-1.jpg
END:VEVENT
BEGIN:VEVENT
DTSTART;TZID=UTC:20230226T133000
DTEND;TZID=UTC:20230226T133000
DTSTAMP:20260423T041933
CREATED:20221226T112955Z
LAST-MODIFIED:20230210T113212Z
UID:4645-1677418200-1677418200@amanaministries.com
SUMMARY:Youth Meeting & Womens' Fellowship
DESCRIPTION:Women’s Fellowship -> Worship\, Testimonies\, Games\, Group Discussion\, etc\nYouth Meeting -> Worship\, Testimonies & Prayer
URL:http://amanaministries.com/event/youth-meeting-womens-fellowship/
LOCATION:Amanaministries Church\, Amana Church\, Amana Ministries(R)\, Bangalore\, 560066\, India
CATEGORIES:Holy
ATTACH;FMTTYPE=image/jpeg:http://amanaministries.com/wp-content/uploads/2021/12/6.jpg
END:VEVENT
BEGIN:VEVENT
DTSTART;TZID=UTC:20230226T100000
DTEND;TZID=UTC:20230226T100000
DTSTAMP:20260423T041933
CREATED:20221226T112318Z
LAST-MODIFIED:20230210T114820Z
UID:4630-1677405600-1677405600@amanaministries.com
SUMMARY:Regular worship
DESCRIPTION:Worshiping the Lord in truth and spirit.
URL:http://amanaministries.com/event/regular-worship-3/
LOCATION:Amanaministries Church\, Amana Church\, Amana Ministries(R)\, Bangalore\, 560066\, India
ATTACH;FMTTYPE=image/jpeg:http://amanaministries.com/wp-content/uploads/2022/12/1.jpg
END:VEVENT
BEGIN:VEVENT
DTSTART;TZID=UTC:20230224T200000
DTEND;TZID=UTC:20230224T200000
DTSTAMP:20260423T041933
CREATED:20221226T113621Z
LAST-MODIFIED:20230210T113616Z
UID:4655-1677268800-1677268800@amanaministries.com
SUMMARY:Fasting Prayer
DESCRIPTION:Praying for all needs
URL:http://amanaministries.com/event/fasting-prayer-2/
LOCATION:Amanaministries Church\, Amana Church\, Amana Ministries(R)\, Bangalore\, 560066\, India
ATTACH;FMTTYPE=image/jpeg:http://amanaministries.com/wp-content/uploads/2021/12/3.jpg
END:VEVENT
BEGIN:VEVENT
DTSTART;TZID=UTC:20230221T200000
DTEND;TZID=UTC:20230221T200000
DTSTAMP:20260423T041933
CREATED:20221226T113051Z
LAST-MODIFIED:20230210T114428Z
UID:4647-1677009600-1677009600@amanaministries.com
SUMMARY:Listen\, Discuss and understand the Word of God
DESCRIPTION:In-depth study of Scriptures
URL:http://amanaministries.com/event/bible-study-2/
LOCATION:Amanaministries Church\, Amana Church\, Amana Ministries(R)\, Bangalore\, 560066\, India
ATTACH;FMTTYPE=image/jpeg:http://amanaministries.com/wp-content/uploads/2021/12/4.jpg
END:VEVENT
BEGIN:VEVENT
DTSTART;TZID=Indian/Christmas:20230219T170000
DTEND;TZID=Indian/Christmas:20230219T170000
DTSTAMP:20260423T041933
CREATED:20221226T112745Z
LAST-MODIFIED:20230210T113027Z
UID:4637-1676826000-1676826000@amanaministries.com
SUMMARY:Sunday school online
DESCRIPTION:All kids are welcome
URL:http://amanaministries.com/event/sunday-school-online-2/
LOCATION:Amanaministries Church\, Amana Church\, Amana Ministries(R)\, Bangalore\, 560066\, India
CATEGORIES:Holy
ATTACH;FMTTYPE=image/jpeg:http://amanaministries.com/wp-content/uploads/2021/05/2-594x333-1.jpg
END:VEVENT
BEGIN:VEVENT
DTSTART;TZID=UTC:20230219T100000
DTEND;TZID=UTC:20230219T100000
DTSTAMP:20260423T041933
CREATED:20221226T111728Z
LAST-MODIFIED:20230210T114809Z
UID:4628-1676800800-1676800800@amanaministries.com
SUMMARY:Regular worship
DESCRIPTION:Worshiping the Lord in truth and spirit.
URL:http://amanaministries.com/event/regular-worship-2/
LOCATION:Amanaministries Church\, Amana Church\, Amana Ministries(R)\, Bangalore\, 560066\, India
ATTACH;FMTTYPE=image/jpeg:http://amanaministries.com/wp-content/uploads/2022/12/1.jpg
END:VEVENT
BEGIN:VEVENT
DTSTART;TZID=UTC:20230217T200000
DTEND;TZID=UTC:20230217T200000
DTSTAMP:20260423T041933
CREATED:20190117T103006Z
LAST-MODIFIED:20230210T113608Z
UID:289-1676664000-1676664000@amanaministries.com
SUMMARY:Fasting Prayer
DESCRIPTION:Praying for all needs
URL:http://amanaministries.com/event/fasting-prayer/
LOCATION:Amanaministries Church\, Amana Church\, Amana Ministries(R)\, Bangalore\, 560066\, India
ATTACH;FMTTYPE=image/jpeg:http://amanaministries.com/wp-content/uploads/2021/12/3.jpg
END:VEVENT
BEGIN:VEVENT
DTSTART;TZID=UTC:20230214T200000
DTEND;TZID=UTC:20230214T200000
DTSTAMP:20260423T041933
CREATED:20190117T121802Z
LAST-MODIFIED:20230210T114425Z
UID:291-1676404800-1676404800@amanaministries.com
SUMMARY:Listen\, Discuss and understand the Word of God
DESCRIPTION:In-depth study of Scriptures
URL:http://amanaministries.com/event/bible-study/
LOCATION:Amanaministries Church\, Amana Church\, Amana Ministries(R)\, Bangalore\, 560066\, India
ATTACH;FMTTYPE=image/jpeg:http://amanaministries.com/wp-content/uploads/2021/12/4.jpg
END:VEVENT
BEGIN:VEVENT
DTSTART;TZID=Indian/Christmas:20230212T170000
DTEND;TZID=Indian/Christmas:20230212T170000
DTSTAMP:20260423T041933
CREATED:20210522T095246Z
LAST-MODIFIED:20230210T113016Z
UID:1224-1676221200-1676221200@amanaministries.com
SUMMARY:Sunday school online
DESCRIPTION:All kids are welcome
URL:http://amanaministries.com/event/sunday-school-online/
LOCATION:Amanaministries Church\, Amana Church\, Amana Ministries(R)\, Bangalore\, 560066\, India
CATEGORIES:Holy
ATTACH;FMTTYPE=image/jpeg:http://amanaministries.com/wp-content/uploads/2021/05/2-594x333-1.jpg
END:VEVENT
BEGIN:VEVENT
DTSTART;TZID=UTC:20230212T133000
DTEND;TZID=UTC:20230212T133000
DTSTAMP:20260423T041933
CREATED:20190704T105738Z
LAST-MODIFIED:20230210T113157Z
UID:1229-1676208600-1676208600@amanaministries.com
SUMMARY:Youth Meeting & Womens' Fellowship
DESCRIPTION:Women’s Fellowship -> Worship\, Testimonies\, Games\, Group Discussion\, etc\nYouth Meeting -> Worship\, Testimonies & Prayer
URL:http://amanaministries.com/event/youth-meeting/
LOCATION:Amanaministries Church\, Amana Church\, Amana Ministries(R)\, Bangalore\, 560066\, India
CATEGORIES:Holy
ATTACH;FMTTYPE=image/jpeg:http://amanaministries.com/wp-content/uploads/2021/12/6.jpg
END:VEVENT
BEGIN:VEVENT
DTSTART;TZID=UTC:20230212T100000
DTEND;TZID=UTC:20230212T100000
DTSTAMP:20260423T041933
CREATED:20221226T104300Z
LAST-MODIFIED:20230210T114728Z
UID:4624-1676196000-1676196000@amanaministries.com
SUMMARY:Regular worship
DESCRIPTION:Worshiping the Lord in truth and spirit.
URL:http://amanaministries.com/event/regular-worship/
LOCATION:Amanaministries Church\, Amana Church\, Amana Ministries(R)\, Bangalore\, 560066\, India
ATTACH;FMTTYPE=image/jpeg:http://amanaministries.com/wp-content/uploads/2022/12/1.jpg
END:VEVENT
BEGIN:VEVENT
DTSTART;TZID=UTC:20230210T200000
DTEND;TZID=UTC:20230210T200000
DTSTAMP:20260423T041933
CREATED:20221226T113642Z
LAST-MODIFIED:20230210T113634Z
UID:4657-1676059200-1676059200@amanaministries.com
SUMMARY:Fasting Prayer
DESCRIPTION:Praying for all needs
URL:http://amanaministries.com/event/fasting-prayer-4/
LOCATION:Amanaministries Church\, Amana Church\, Amana Ministries(R)\, Bangalore\, 560066\, India
ATTACH;FMTTYPE=image/jpeg:http://amanaministries.com/wp-content/uploads/2021/12/3.jpg
END:VEVENT
BEGIN:VEVENT
DTSTART;TZID=UTC:20230131T200000
DTEND;TZID=UTC:20230131T200000
DTSTAMP:20260423T041933
CREATED:20221226T113402Z
LAST-MODIFIED:20230202T100510Z
UID:4653-1675195200-1675195200@amanaministries.com
SUMMARY:Listen\, Discuss and understand the Word of God
DESCRIPTION:In-depth study of Scriptures
URL:http://amanaministries.com/event/bible-study-5/
LOCATION:Amanaministries Church\, Amana Church\, Amana Ministries(R)\, Bangalore\, 560066\, India
ATTACH;FMTTYPE=image/jpeg:http://amanaministries.com/wp-content/uploads/2021/12/4.jpg
END:VEVENT
END:VCALENDAR